BEGIN:VCALENDAR
VERSION:2.0
PRODID:-//Karma Euzer Ling - ECPv6.15.20//NONSGML v1.0//EN
CALSCALE:GREGORIAN
METHOD:PUBLISH
X-WR-CALNAME:Karma Euzer Ling
X-ORIGINAL-URL:https://karma-euzer-ling.fr
X-WR-CALDESC:Évènements pour Karma Euzer Ling
REFRESH-INTERVAL;VALUE=DURATION:PT1H
X-Robots-Tag:noindex
X-PUBLISHED-TTL:PT1H
BEGIN:VTIMEZONE
TZID:Europe/Paris
BEGIN:DAYLIGHT
TZOFFSETFROM:+0100
TZOFFSETTO:+0200
TZNAME:CEST
DTSTART:20250330T010000
END:DAYLIGHT
BEGIN:STANDARD
TZOFFSETFROM:+0200
TZOFFSETTO:+0100
TZNAME:CET
DTSTART:20251026T010000
END:STANDARD
BEGIN:DAYLIGHT
TZOFFSETFROM:+0100
TZOFFSETTO:+0200
TZNAME:CEST
DTSTART:20260329T010000
END:DAYLIGHT
BEGIN:STANDARD
TZOFFSETFROM:+0200
TZOFFSETTO:+0100
TZNAME:CET
DTSTART:20261025T010000
END:STANDARD
BEGIN:DAYLIGHT
TZOFFSETFROM:+0100
TZOFFSETTO:+0200
TZNAME:CEST
DTSTART:20270328T010000
END:DAYLIGHT
BEGIN:STANDARD
TZOFFSETFROM:+0200
TZOFFSETTO:+0100
TZNAME:CET
DTSTART:20271031T010000
END:STANDARD
END:VTIMEZONE
BEGIN:VEVENT
DTSTART;TZID=Europe/Paris:20260423T100000
DTEND;TZID=Europe/Paris:20260426T163000
DTSTAMP:20260420T154414
CREATED:20260120T160440Z
LAST-MODIFIED:20260323T150537Z
UID:15735-1776938400-1777221000@karma-euzer-ling.fr
SUMMARY:L'appel au Lama de loin - Enseignement et méditation - Tseyang Rinpoché
DESCRIPTION:L’enseignement qui sera transversal à cette petite retraite de méditation se basera sur le texte de l’Appel au Lama de Loin. \nDans le contexte du bouddhisme Vajrayana\, le rôle du maître spirituel\, le lama\, est fondamental\, car il est vu comme la source de toutes les bénédictions. Plus particulièrement\, dans la tradition du Mahamoudra\, recevoir la bénédiction du lama est considéré comme la condition essentielle pour réaliser la nature de l’esprit.\nL’Appel au Lama de Loin est une prière composée au XIXe siècle par Jamgoeun Lodreu Tayé. Elle est utilisée dans la lignée Kagyu pour développer une aspiration pure pour son maître spirituel.\nCette invocation est composée de deux parties. La première est une prière adressée aux lamas de toutes les principales lignées et illustre leurs types spécifiques de réalisation. La seconde se présente sous la forme d’un appel au lama afin qu’il nous aide à surmonter les obstacles et à intégrer les différents aspects de la pratique.\nCette prière est aussi un recueil d’instructions clés qui montrent au pratiquant les défauts qui peuvent s’élever sur la voie spirituelle. \n\n“Font preuve de perspicacité ceux qui s’engagent (sur la voie) en commençant par rechercher le maître spirituel compétent et qui\, l’ayant trouvé\, s’en remettent à lui de la façon qui convient. Ces personnes donnent ainsi du sens et ne galvaudent pas un tel joyau capable d’exaucer tous leurs souhaits: une précieuse existence libre et qualifiée.”\nJamgoeun Kontrul\, dans “Le Trésor de la Connaissance”. \n\n  \n  \n\n\n\n\n\n\n\n\n\n\n\n\n\n\n\n\n\n\nTseyang Rinpoché\, quatrième du nom\, est le tülku d’un mahasiddha tibétain. En 1996 il a été formellement reconnu par le XIVe Shamar Rinpoché\, lors des Kagyü Mönlams à Bodhgaya. Il a terminé ses études et obtenu sa certification de l’Institut bouddhiste Vikramashila. Il a également accompli une retraite traditionnelle de trois ans à Pharping (Népal) et réside actuellement au monastère Jangchub Chöling à Pokhara\, le monastère de Shangpa Rinpoché. \n\n\n\n\n\n\n\n\n\n\n\n\n\n\n\n\n\nFrais de session : 20€ / jour\nRéservation\n\n 
URL:https://karma-euzer-ling.fr/events/lappel-au-lama-de-loin-enseignement-et-meditation-tseyang-rinpoche/
CATEGORIES:La pratique méditative,Les pratiques du Mahayana,Les stages et retraites
ATTACH;FMTTYPE=image/png:https://karma-euzer-ling.fr/wp-content/uploads/2026/01/image-8.png
END:VEVENT
BEGIN:VEVENT
DTSTART;TZID=Europe/Paris:20260430T183000
DTEND;TZID=Europe/Paris:20260430T200000
DTSTAMP:20260420T154414
CREATED:20260120T181910Z
LAST-MODIFIED:20260125T163545Z
UID:15758-1777573800-1777579200@karma-euzer-ling.fr
SUMMARY:Ateliers Maitri : Les souhaits et les attentes 2/2
DESCRIPTION:Il est important de distinguer les souhaits des attentes. Le souhait est un acte de l’esprit\, un acte libre. Cela fait partie du Chemin de la Liberation et de l’Eveil. Par contre\, nos attentes et nos désirs sont conditionnés. Ils ne sont donc pas libres et ne nous conduisent pas à la libération. Parfois\, nous percevons la présence d’addictions dans notre vie\, mais nous ne voyons pas tout. Même dans une vie qui semble raisonnable aux yeux de la société\, le comportement addictif peut prendre beaucoup de place. \n« Nous sommes constamment dans l’addiction aux phénomènes » (Alain Duhayon). \n\n\n\n\n\n\n\n\n\n\n\n\n\n\n\n\n\n\nLes ateliers Maitri: Les souhaits et les attentes \nDeux dates sont proposées: \nJeudi 9 avril de 18h30 à 20h\nJeudi 30 avrilde 18h30 à 20h \nCes ateliers seront assurés par Pascal Le Meur \nPascal Le Meur est élève d’Alain Duhayon depuis plus de 40 ans et disciple de Lama Teunsang. Il a suivi la première formation Maitri dans les années 90. Pascal enseigne les yoga et la méditation au sein du groupe du dharma au Havre. Il est par ailleurs investi en tant qu’Aumonier bouddhiste en prison. \nFrais de sessions : 12€/par session \n\nRéservation
URL:https://karma-euzer-ling.fr/events/atelier-maitri-les-souhaits-et-les-attentes-2-2/
CATEGORIES:Espace Maitri et stages invités,Les ateliers Maitri
END:VEVENT
END:VCALENDAR