BEGIN:VCALENDAR
VERSION:2.0
PRODID:-//Karma Euzer Ling - ECPv6.15.20//NONSGML v1.0//EN
CALSCALE:GREGORIAN
METHOD:PUBLISH
X-ORIGINAL-URL:https://karma-euzer-ling.fr
X-WR-CALDESC:Évènements pour Karma Euzer Ling
REFRESH-INTERVAL;VALUE=DURATION:PT1H
X-Robots-Tag:noindex
X-PUBLISHED-TTL:PT1H
BEGIN:VTIMEZONE
TZID:Europe/Paris
BEGIN:DAYLIGHT
TZOFFSETFROM:+0100
TZOFFSETTO:+0200
TZNAME:CEST
DTSTART:20250330T010000
END:DAYLIGHT
BEGIN:STANDARD
TZOFFSETFROM:+0200
TZOFFSETTO:+0100
TZNAME:CET
DTSTART:20251026T010000
END:STANDARD
BEGIN:DAYLIGHT
TZOFFSETFROM:+0100
TZOFFSETTO:+0200
TZNAME:CEST
DTSTART:20260329T010000
END:DAYLIGHT
BEGIN:STANDARD
TZOFFSETFROM:+0200
TZOFFSETTO:+0100
TZNAME:CET
DTSTART:20261025T010000
END:STANDARD
BEGIN:DAYLIGHT
TZOFFSETFROM:+0100
TZOFFSETTO:+0200
TZNAME:CEST
DTSTART:20270328T010000
END:DAYLIGHT
BEGIN:STANDARD
TZOFFSETFROM:+0200
TZOFFSETTO:+0100
TZNAME:CET
DTSTART:20271031T010000
END:STANDARD
END:VTIMEZONE
BEGIN:VEVENT
DTSTART;TZID=Europe/Paris:20260905T130000
DTEND;TZID=Europe/Paris:20260906T163000
DTSTAMP:20260420T231738
CREATED:20260329T143634Z
LAST-MODIFIED:20260329T143634Z
UID:16202-1788613200-1788712200@karma-euzer-ling.fr
SUMMARY:Cure de santé
DESCRIPTION:Par  Raija Knuchel\nMassage tibétain de l’abdomen\, nettoyage de l’intestin\, du foie et de la vésicule biliaire qui permettent d’éliminer des calculs biliaires. Ces exercices ont pour bienfaits de réguler les fonctions digestives avec répercussion sur les systèmes respiratoire et cardio-vasculaire\, de rétablir les déséquilibres énergétiques\, d’éliminer les douleurs dont l’origine est la vésicule et de redonner une meilleure vitalité. \n\n\n\n\n\n\n\n\n\n\n\n\n\n\n\n\n\n\n\n\n\n\nRaija Knuchel\, naturopathe en Suisse\, a suivi la formation Maitri de quatre ans avec Alain Duhayon en relation d’aide\, d’accompagnement et de communication. Elle enseigne la réflexologie plantaire\, la pratique du sauna finlandais\, et la théorie et la pratique de l’alimentation saine. \nPrix du stage tout compris: 142€ \n• Le prix mentionné pour ce stage comprend la totalité des frais (stage + repas ) \n• Renseignements: Raija Knuchel – Tel: (0041) 79 63 24 624 (suisse) chemin de beausobre 5\, 1110 Morges – Suisse \n• Inscription obligatoire au centre en versant 30€ d’arrhes\, au moins 15 jours avant la cure de santé\, pour recevoir les instructions concernant la préparation au stage. \nStage organisé par l’association Espace Maitri \n\nRéservation
URL:https://karma-euzer-ling.fr/events/cure-de-sante-2/
CATEGORIES:Espace Maitri et stages invités
ATTACH;FMTTYPE=image/gif:https://karma-euzer-ling.fr/wp-content/uploads/2026/01/Lotus.gif
END:VEVENT
BEGIN:VEVENT
DTSTART;TZID=Europe/Paris:20260912T100000
DTEND;TZID=Europe/Paris:20260913T163000
DTSTAMP:20260420T231738
CREATED:20260329T115118Z
LAST-MODIFIED:20260329T150142Z
UID:16197-1789207200-1789317000@karma-euzer-ling.fr
SUMMARY:L’union du Dzogchen et du Mahamoudra en lien avec la pratique de Tchenrézi – Lama Jampa Thayé
DESCRIPTION:Cet enseignement majeur se présente sous la forme d’une série de huit chants composés par le maître réalisé Karma Chakme. Caractérisé par sa franchise et sa clarté\, ce texte est l’un des plus célèbres ensembles d’instructions de méditation de la tradition Kagyu\, appelée en tibétain « Mar Tri ». \nKarma Chakme nous guide à travers les pratiques préliminaires communes et peu communes du Vajrayana\, puis\, en se concentrant sur la méditation de Tchenrézi\, il enseigne les méthodes du yoga de la déité. Il introduit ensuite la pratique combinée du Mahamudra et du Dzogchen – ce dernier étant également appelé la Grande Perfection. \n\n\n\n\n\n\n\n\n\n\n\n\n\n\n\n\n\n\nLama Jampa Thayé est un érudit et un maître de méditation des traditions sakya et kagyu du bouddhisme tibétain. Ses maîtres principaux sont Karma Trinley Rinpoché et Sa Sainteté Sakya Trizin Rinpoché. Lama Jampa Thayé a été nommé par Karma Trinley Rinpoché son régent du Dharma en 1988. Depuis lors\, il a voyagé inlassablement à travers le monde pour donner enseignements et initiations.\nLama Jampa Thayé est l’auteur de nombreux ouvrages dont plusieurs d’entre eux sont traduits en français aux éditions Rabsel :  » Ondée de clarté « \, « Sagesse en exil »\, Un ciel adamantin »\nIl a obtenu un doctorat de l’Université de Manchester pour son travail sur l’histoire religieuse tibétaine et a enseigné durant plus de vingt ans à l’université de Manchester.\nIl fait aujourd’hui partie de la faculté internationale d’enseignement à l’institut bouddhiste international de Karmapa à Dehli. Il publie régulièrement des articles dans le magazine Tricycle aux USA. \n\n\n\n\n\n\n\n\n\n\n\n\n\n\n\n\n\nFrais de session : 20€ / jour\nRéservation\n\n 
URL:https://karma-euzer-ling.fr/events/lunion-du-mahamoudra-et-du-dzogchen-en-lien-avec-la-pratique-de-tchenrezi-lama-jampa-thaye/
CATEGORIES:Évènements,La pratique méditative,Les pratiques du Vajrayana,Les stages et retraites
ATTACH;FMTTYPE=image/png:https://karma-euzer-ling.fr/wp-content/uploads/2026/03/Sans-titre-4.png
END:VEVENT
END:VCALENDAR