BEGIN:VCALENDAR
VERSION:2.0
PRODID:-//Karma Euzer Ling - ECPv6.15.20//NONSGML v1.0//EN
CALSCALE:GREGORIAN
METHOD:PUBLISH
X-ORIGINAL-URL:https://karma-euzer-ling.fr
X-WR-CALDESC:Évènements pour Karma Euzer Ling
REFRESH-INTERVAL;VALUE=DURATION:PT1H
X-Robots-Tag:noindex
X-PUBLISHED-TTL:PT1H
BEGIN:VTIMEZONE
TZID:Europe/Paris
BEGIN:DAYLIGHT
TZOFFSETFROM:+0100
TZOFFSETTO:+0200
TZNAME:CEST
DTSTART:20250330T010000
END:DAYLIGHT
BEGIN:STANDARD
TZOFFSETFROM:+0200
TZOFFSETTO:+0100
TZNAME:CET
DTSTART:20251026T010000
END:STANDARD
BEGIN:DAYLIGHT
TZOFFSETFROM:+0100
TZOFFSETTO:+0200
TZNAME:CEST
DTSTART:20260329T010000
END:DAYLIGHT
BEGIN:STANDARD
TZOFFSETFROM:+0200
TZOFFSETTO:+0100
TZNAME:CET
DTSTART:20261025T010000
END:STANDARD
BEGIN:DAYLIGHT
TZOFFSETFROM:+0100
TZOFFSETTO:+0200
TZNAME:CEST
DTSTART:20270328T010000
END:DAYLIGHT
BEGIN:STANDARD
TZOFFSETFROM:+0200
TZOFFSETTO:+0100
TZNAME:CET
DTSTART:20271031T010000
END:STANDARD
END:VTIMEZONE
BEGIN:VEVENT
DTSTART;TZID=Europe/Paris:20260507T183000
DTEND;TZID=Europe/Paris:20260507T200000
DTSTAMP:20260420T184727
CREATED:20260120T172248Z
LAST-MODIFIED:20260125T163806Z
UID:15746-1778178600-1778184000@karma-euzer-ling.fr
SUMMARY:Ateliers Maitri : Le contentement comme état de juste accord avec ce qui est
DESCRIPTION:  «  Le Yoga c’est être content » \n\nun mot d’enfant à la fin d’une séance de Yoga \nLa racine du mot content est contenir. Dans le mot contentement il y a l’idée d’un contenant.\nComme dans le mot Maitri « on retrouve la racine des mots Matrice\, Mère et Matière »\n« Maitri signifie Amour dans le sens d’ouverture du coeur découlant non d’un conditionnement mais de l’expression de notre être fondamental et naturel.\nC’est une attitude plus sincère\, plus courageuse et plus aimante envers soi et envers autrui.\nC’est une attitude plus humaine et spirituelle\, une vision positive du monde et de soi-même basée sur l’expérience de la nature fondamentale de notre esprit.\nMaitri est donc sous-tendue par une philosophie pratique\, basée sur l’expérience concrète de ce que nous sommes quelques soient les situations de vie\, personnelles ou professionnelles »\nDévelopper le véritable contentement jusqu’à emplir\, combler est une attitude qui transforme et qui change la vie des personnes en donnant naissance aux qualités et aux potentialités de l’esprit. \nNous proposerons des exercices ludiques vers l’élargissement de la conscience et de l’ouverture corporelle. \n\n\n\n\n\n\n\n\n\n\n\n\n\n\n\n\n\nLes ateliers Maitri: Le contentement comme état de juste accord avec ce qui est \nTrois dates sont proposées: \nJeudi 12 mars de 18h30 à 20h\nJeudi 7 mai de 18h30 à 20h\nJeudi 4 juin de 18h30 à 20h \nCet atelier sera assuré par Daniéle Geoffroy et Danielle Saunier \nDaniéle Geoffroy est élève d’Alain Duhayon depuis plus de 40 ans. Danielle Geoffroy a suivi la formation Maitri et anime des cours de yoga en Normandie.  \nDanielle Saunier est élève d’Alain Duhayon depuis plus de 40 ans et a suivi la première formation Maitri dans les années 90. Danielle intervient sur la région de Fécamp dans l’accompagnement des personnes en fin de vie et anime des cours de yoga et massages. \nFrais de sessions : 12€/par session \n\nRéservation
URL:https://karma-euzer-ling.fr/events/ateliers-maitri-le-contentement-comme-etat-de-juste-accord-avec-ce-qui-est/
CATEGORIES:Espace Maitri et stages invités,Les ateliers Maitri
END:VEVENT
BEGIN:VEVENT
DTSTART;TZID=Europe/Paris:20260509T090000
DTEND;TZID=Europe/Paris:20260510T163000
DTSTAMP:20260420T184727
CREATED:20260121T154702Z
LAST-MODIFIED:20260125T214512Z
UID:15893-1778317200-1778430600@karma-euzer-ling.fr
SUMMARY:Les week-ends méditation et action
DESCRIPTION:Le samedi sera consacré à la méditation en action dans le cadre de la participation bénévole à l’activité du centre ( entretiens des espaces verts\, petits travaux accessibles à tous\, etc…) En effet\, le vénérable Lama Teunsang ayant toute sa vie montré l’exemple et l’importance d’œuvrer pour le Dharma\, nous nous inspirerons de son exemple. Ces journées sont aussi l’occasion de rencontres et d’échanges entre les pratiquants\, ce sont des moments conviviaux qui en même temps aident beaucoup le centre. \nLe dimanche sera consacré à l’accumulation de la pratique de Tchenrézi\, personnification de l’amour et de la compassion infinie de tous les Bouddhas\, qui œuvre sans cesse au bienfait de tous les êtres sans exception.\nSes quatre bras symbolisent les quatre pensées infinies (amour infini\, compassion infinie\, joie infinie et équanimité infinie).\nson mantra exprime sous forme de sons\, toute la connaissance et la compassion des Bouddhas. Ce mantra est considéré comme le roi des mantras car chacune des syllabes du mantra possède à elle seule un potentiel de bénédiction incommensurable\, décrit dans de nombreux soutras et tantras. Sa récitation régulière permet de faire naitre en nous l’amour et la bienveillance envers les êtres sensibles\, de parfaire les six paramitas. \nNB: Vous êtes les bienvenus pour une heure ou deux\, une demie-journée\, une journée ou les deux. Pour les repas\, nous vous proposons que ce soit à la bonne franquette et que ce soit sur le mode du partage. La participation à ces sessions est libre; une boite à offrande est située à l’entrée du Temple \nHoraires : Début – Samedi à partir 9h\nFin – Dimanche vers 16h30
URL:https://karma-euzer-ling.fr/events/les-week-end-meditation-et-action-3/
CATEGORIES:Autre activité
END:VEVENT
BEGIN:VEVENT
DTSTART;TZID=Europe/Paris:20260514T100000
DTEND;TZID=Europe/Paris:20260517T163000
DTSTAMP:20260420T184727
CREATED:20260329T113508Z
LAST-MODIFIED:20260330T094946Z
UID:16190-1778752800-1779035400@karma-euzer-ling.fr
SUMMARY:Le Soutra de la sagesse du moment de la mort - Le Daka Yéshé - Dongsung Shabdrung Rinpoché
DESCRIPTION:Le Soutra de la sagesse primordiale du moment de la mort ou Daka Yeshé que nous expliquera Rinpoché relate un dialogue entre le Bouddha et le bodhisattva-mahasattva Ākāśagarbha. À la question que ce bodhisattva se pose sur la manière de contempler l’esprit au moment de la mort\, le Bouddha répond en cinq points : « naturellement purs sont les dharmas : médite la pensée du sans substance ; parfaitement doués de bodhicitta : médite la pensée de grande compassion ; naturellement lumineux sont les dharmas : médite la pensée du sans référence ; impermanentes sont toutes choses : médite la pensée du sans attachement ; l’esprit est source de sagesse primordiale : ne cherche le bouddha nulle part ailleurs. » \nLe Bouddha Shakyamuni nous livre dans ce court soutra la quintessence de la totalité de son enseignement\, si vaste et si profond\, sous la forme de ces cinq maîtres-mots de la méditation\, cinq clés nécessaires et suffisantes pour comprendre l’Enseignement\, pour le mettre en pratique\, et pour en réaliser le fruit ultime. \n\n\n\n\n\n\n\n\n\n\n\n\n\n\n\n\n\n\nDongsung Shabdroung Rinpoché est un lama hautement réalisé de la lignée Sakyapa\, l’une des quatre lignées du bouddhisme tibétain. Il est érudit dans les traditions Sakya et Kagyu. Dans sa précédente incarnation\, il était le frère aîné du 16ème Karmapa et reste aujourd’hui proche du 17ème Karmapa Trinlay Thayé Dorjé. Il est considéré comme l’émanation de Sangyé Yéshé\, l’un des 25 disciples proches de Gourou Rinpoché. Il a achevé ses études de philosophie bouddhiste et enseigne aujourd’hui à la fois la philosophie et les tantras du vajrayana. Il est détenteur d’une lignée de pratique de Hevajra\, l’un des principaux yidams de ces tantras. Il fut reconnu à l’âge de 8 ans par Sakya Trizin\, le hiérarque de la lignée Sakya\, et par Shamar Rinpoché. \n\n\n\n\n\n\n\n\n\n\n\n\n\n\n\n\n\nFrais de session : 20€ / jour\nRéservation\n\n 
URL:https://karma-euzer-ling.fr/events/le-soutra-du-moment-de-la-mort-le-daka-yeshe-dongsung-shabdrung-rinpoche/
CATEGORIES:Évènements,Les enseignements sur la philosophie bouddhiste,Les stages et retraites
ATTACH;FMTTYPE=image/jpeg:https://karma-euzer-ling.fr/wp-content/uploads/2026/03/image.jpeg
END:VEVENT
END:VCALENDAR