BEGIN:VCALENDAR
VERSION:2.0
PRODID:-//Karma Euzer Ling - ECPv6.15.20//NONSGML v1.0//EN
CALSCALE:GREGORIAN
METHOD:PUBLISH
X-ORIGINAL-URL:https://karma-euzer-ling.fr
X-WR-CALDESC:Évènements pour Karma Euzer Ling
REFRESH-INTERVAL;VALUE=DURATION:PT1H
X-Robots-Tag:noindex
X-PUBLISHED-TTL:PT1H
BEGIN:VTIMEZONE
TZID:Europe/Paris
BEGIN:DAYLIGHT
TZOFFSETFROM:+0100
TZOFFSETTO:+0200
TZNAME:CEST
DTSTART:20250330T010000
END:DAYLIGHT
BEGIN:STANDARD
TZOFFSETFROM:+0200
TZOFFSETTO:+0100
TZNAME:CET
DTSTART:20251026T010000
END:STANDARD
BEGIN:DAYLIGHT
TZOFFSETFROM:+0100
TZOFFSETTO:+0200
TZNAME:CEST
DTSTART:20260329T010000
END:DAYLIGHT
BEGIN:STANDARD
TZOFFSETFROM:+0200
TZOFFSETTO:+0100
TZNAME:CET
DTSTART:20261025T010000
END:STANDARD
BEGIN:DAYLIGHT
TZOFFSETFROM:+0100
TZOFFSETTO:+0200
TZNAME:CEST
DTSTART:20270328T010000
END:DAYLIGHT
BEGIN:STANDARD
TZOFFSETFROM:+0200
TZOFFSETTO:+0100
TZNAME:CET
DTSTART:20271031T010000
END:STANDARD
END:VTIMEZONE
BEGIN:VEVENT
DTSTART;TZID=Europe/Paris:20260207T090000
DTEND;TZID=Europe/Paris:20260208T163000
DTSTAMP:20260420T184727
CREATED:20260121T154143Z
LAST-MODIFIED:20260126T194955Z
UID:15888-1770454800-1770568200@karma-euzer-ling.fr
SUMMARY:Les week-ends Méditation et action
DESCRIPTION:Le samedi sera consacré à la méditation en action dans le cadre de la participation bénévole à l’activité du centre ( entretiens des espaces verts\, petits travaux accessibles à tous\, etc…) En effet\, le vénérable Lama Teunsang ayant toute sa vie montré l’exemple et l’importance d’œuvrer pour le Dharma\, nous nous inspirerons de son exemple. Ces journées sont aussi l’occasion de rencontres et d’échanges entre les pratiquants\, ce sont des moments conviviaux qui en même temps aident beaucoup le centre. \nLe dimanche sera consacré à l’accumulation de la pratique de Tchenrézi\, personnification de l’amour et de la compassion infinie de tous les Bouddhas\, qui œuvre sans cesse au bienfait de tous les êtres sans exception.\nSes quatre bras symbolisent les quatre pensées infinies (amour infini\, compassion infinie\, joie infinie et équanimité infinie).\nson mantra exprime sous forme de sons\, toute la connaissance et la compassion des Bouddhas. Ce mantra est considéré comme le roi des mantras car chacune des syllabes du mantra possède à elle seule un potentiel de bénédiction incommensurable\, décrit dans de nombreux soutras et tantras. Sa récitation régulière permet de faire naitre en nous l’amour et la bienveillance envers les êtres sensibles\, de parfaire les six paramitas. \nNB: Vous êtes les bienvenus pour une heure ou deux\, une demie-journée\, une journée ou les deux. Pour les repas\, nous vous proposons que ce soit à la bonne franquette et que ce soit sur le mode du partage. La participation à ces sessions est libre; une boite à offrande est située à l’entrée du Temple \nHoraires : Début – Samedi à partir 9h\nFin – Dimanche vers 16h30
URL:https://karma-euzer-ling.fr/events/les-week-end-meditation-et-action/
CATEGORIES:Autre activité
END:VEVENT
BEGIN:VEVENT
DTSTART;TZID=Europe/Paris:20260218T093000
DTEND;TZID=Europe/Paris:20260218T173000
DTSTAMP:20260420T184727
CREATED:20260121T201138Z
LAST-MODIFIED:20260126T195000Z
UID:15918-1771407000-1771435800@karma-euzer-ling.fr
SUMMARY:Nouvel An Tibétain - Le Losar
DESCRIPTION:Faire le bien d’autrui dépend de l’intention\, car rien ne vient à maturité durablement sans que cela ne soit basé sur un souhait véritable.\nLe Losar est\, dans la tradition bouddhiste\, le premier jour de la nouvelle année ( le 18 février 2026 cette année )\, cheval-feu cette année\, où chacun s’appuyant sur ses qualités potentielles\, renforce\, développe les souhaits\, les résolutions\, qu’il prolongera par des actes concrets au cours de l’année\, actualisant ainsi l’altruisme dans cette vie.\n\nCette journée débutera par un enseignement en lien avec la pratique donné par Alain Duhayon lors d’un précédent Losar. \nNous nous consacrerons ensuite à la pratique de Tchenrézi\, méditation chantée et répétition du mantra\, ce qui permet au pratiquant de mettre en oeuvre cette pratique d’amour et de compassion qu’est Tchenrézi\, le support tantrique qui représente ces qualités.\n\nLa pratique étant intensive\, ininterrompue\, les participants sont invités à amener de quoi participer à un petit buffet permettant à chacun lors des courtes pauses de se restaurer si besoin ( boisson et nourriture ).\n\nHoraires :  Début de la session – mercredi 18 février à 9h30 –\nFin de la session – à 17h30\n\nA la fin de la journée de pratique\, nous vous proposons de nous retrouver pour un moment festif autour d’un apéritif dînatoire
URL:https://karma-euzer-ling.fr/events/nouvel-an-tibetain-le-losar/
CATEGORIES:Évènements,Les stages et retraites
ATTACH;FMTTYPE=image/jpeg:https://karma-euzer-ling.fr/wp-content/uploads/2026/01/shutterstock_2628464785-Converti-scaled.jpg
END:VEVENT
BEGIN:VEVENT
DTSTART;TZID=Europe/Paris:20260227T090000
DTEND;TZID=Europe/Paris:20260301T120000
DTSTAMP:20260420T184727
CREATED:20260120T175751Z
LAST-MODIFIED:20260126T195006Z
UID:15754-1772182800-1772366400@karma-euzer-ling.fr
SUMMARY:Réseau Maitri
DESCRIPTION:A la fin de la formation au « Yoga Nidra dans le cadre de la relation d’aide\, à l’accompagnement de la souffrance et à la communication« \, il a été décidé collégialement par les participants de continuer à approfondir et pratiquer ensemble. Toutes les personnes qui ont suivi la formation longue de 3 ans sont les bienvenues. \nDeux à trois sessions par an sont envisagées (en Normandie et en Isère)
URL:https://karma-euzer-ling.fr/events/reseau-maitri/
CATEGORIES:Espace Maitri et stages invités,Les stages et retraites
ATTACH;FMTTYPE=image/jpeg:https://karma-euzer-ling.fr/wp-content/uploads/2026/01/shutterstock_533347954-copie-1536x1024-copie.jpg
END:VEVENT
END:VCALENDAR