BEGIN:VCALENDAR
VERSION:2.0
PRODID:-//Karma Euzer Ling - ECPv6.15.20//NONSGML v1.0//EN
CALSCALE:GREGORIAN
METHOD:PUBLISH
X-ORIGINAL-URL:https://karma-euzer-ling.fr
X-WR-CALDESC:Évènements pour Karma Euzer Ling
REFRESH-INTERVAL;VALUE=DURATION:PT1H
X-Robots-Tag:noindex
X-PUBLISHED-TTL:PT1H
BEGIN:VTIMEZONE
TZID:Europe/Paris
BEGIN:DAYLIGHT
TZOFFSETFROM:+0100
TZOFFSETTO:+0200
TZNAME:CEST
DTSTART:20250330T010000
END:DAYLIGHT
BEGIN:STANDARD
TZOFFSETFROM:+0200
TZOFFSETTO:+0100
TZNAME:CET
DTSTART:20251026T010000
END:STANDARD
BEGIN:DAYLIGHT
TZOFFSETFROM:+0100
TZOFFSETTO:+0200
TZNAME:CEST
DTSTART:20260329T010000
END:DAYLIGHT
BEGIN:STANDARD
TZOFFSETFROM:+0200
TZOFFSETTO:+0100
TZNAME:CET
DTSTART:20261025T010000
END:STANDARD
BEGIN:DAYLIGHT
TZOFFSETFROM:+0100
TZOFFSETTO:+0200
TZNAME:CEST
DTSTART:20270328T010000
END:DAYLIGHT
BEGIN:STANDARD
TZOFFSETFROM:+0200
TZOFFSETTO:+0100
TZNAME:CET
DTSTART:20271031T010000
END:STANDARD
END:VTIMEZONE
BEGIN:VEVENT
DTSTART;TZID=Europe/Paris:20260604T183000
DTEND;TZID=Europe/Paris:20260604T200000
DTSTAMP:20260420T185020
CREATED:20260120T172453Z
LAST-MODIFIED:20260125T163901Z
UID:15748-1780597800-1780603200@karma-euzer-ling.fr
SUMMARY:Ateliers Maitri : Le contentement comme état de juste accord avec ce qui est
DESCRIPTION:  «  Le Yoga c’est être content » \n\nun mot d’enfant à la fin d’une séance de Yoga \nLa racine du mot content est contenir. Dans le mot contentement il y a l’idée d’un contenant.\nComme dans le mot Maitri « on retrouve la racine des mots Matrice\, Mère et Matière »\n« Maitri signifie Amour dans le sens d’ouverture du coeur découlant non d’un conditionnement mais de l’expression de notre être fondamental et naturel.\nC’est une attitude plus sincère\, plus courageuse et plus aimante envers soi et envers autrui.\nC’est une attitude plus humaine et spirituelle\, une vision positive du monde et de soi-même basée sur l’expérience de la nature fondamentale de notre esprit.\nMaitri est donc sous-tendue par une philosophie pratique\, basée sur l’expérience concrète de ce que nous sommes quelques soient les situations de vie\, personnelles ou professionnelles »\nDévelopper le véritable contentement jusqu’à emplir\, combler est une attitude qui transforme et qui change la vie des personnes en donnant naissance aux qualités et aux potentialités de l’esprit. \nNous proposerons des exercices ludiques vers l’élargissement de la conscience et de l’ouverture corporelle ainsi que vers la joie de l’expérimentation vocale et de l’écoute. \n\n\n\n\n\n\n\n\n\n\n\n\n\n\n\n\n\nLes ateliers Maitri: Le contentement comme état de juste accord avec ce qui est \nTrois dates sont proposées: \nJeudi 12 mars de 18h30 à 20h\nJeudi 7 mai de 18h30 à 20h\nJeudi 4 juin de 18h30 à 20h \nCet atelier sera assuré par Daniéle Geoffroy et Mireille Annie Auger Maillard \nDaniéle Geoffroy est élève d’Alain Duhayon depuis plus de 40 ans. Danielle Geoffroy a suivi la formation Maitri et anime des cours de yoga en Normandie.  \nMireille-Annie AUGER MAILLARD\, professeur de formation musicale en Ecole nationale de Musique et aussi chef de chœur (d’enfants et d’adultes) pratique le yoga et la méditation avec Alain DUHAYON depuis une quarantaine d’années. Elle propose une approche sensorielle de la musique par des jeux vocaux et corporels\, un développement de l’écoute et une perception plus fine du phénomène sonore. \nFrais de sessions : 12€/par session \n\nRéservation
URL:https://karma-euzer-ling.fr/events/ateliers-maitri-le-contentement-comme-etat-de-juste-accord-avec-ce-qui-est-2/
CATEGORIES:Espace Maitri et stages invités,Les ateliers Maitri
END:VEVENT
END:VCALENDAR