BEGIN:VCALENDAR
VERSION:2.0
PRODID:-//Karma Euzer Ling - ECPv6.15.20//NONSGML v1.0//EN
CALSCALE:GREGORIAN
METHOD:PUBLISH
X-WR-CALNAME:Karma Euzer Ling
X-ORIGINAL-URL:https://karma-euzer-ling.fr
X-WR-CALDESC:Évènements pour Karma Euzer Ling
REFRESH-INTERVAL;VALUE=DURATION:PT1H
X-Robots-Tag:noindex
X-PUBLISHED-TTL:PT1H
BEGIN:VTIMEZONE
TZID:Europe/Paris
BEGIN:DAYLIGHT
TZOFFSETFROM:+0100
TZOFFSETTO:+0200
TZNAME:CEST
DTSTART:20250330T010000
END:DAYLIGHT
BEGIN:STANDARD
TZOFFSETFROM:+0200
TZOFFSETTO:+0100
TZNAME:CET
DTSTART:20251026T010000
END:STANDARD
BEGIN:DAYLIGHT
TZOFFSETFROM:+0100
TZOFFSETTO:+0200
TZNAME:CEST
DTSTART:20260329T010000
END:DAYLIGHT
BEGIN:STANDARD
TZOFFSETFROM:+0200
TZOFFSETTO:+0100
TZNAME:CET
DTSTART:20261025T010000
END:STANDARD
BEGIN:DAYLIGHT
TZOFFSETFROM:+0100
TZOFFSETTO:+0200
TZNAME:CEST
DTSTART:20270328T010000
END:DAYLIGHT
BEGIN:STANDARD
TZOFFSETFROM:+0200
TZOFFSETTO:+0100
TZNAME:CET
DTSTART:20271031T010000
END:STANDARD
END:VTIMEZONE
BEGIN:VEVENT
DTSTART;TZID=Europe/Paris:20260716T100000
DTEND;TZID=Europe/Paris:20260719T163000
DTSTAMP:20260420T173803
CREATED:20260121T135936Z
LAST-MODIFIED:20260211T194848Z
UID:15873-1784196000-1784478600@karma-euzer-ling.fr
SUMMARY:Tong-Len - Retraite - Lama Tsony
DESCRIPTION:Dans le théâtre silencieux de votre propre esprit\, l’ancienne pratique du tonglen vous invite à une danse subtile et profonde du cœur.\nElle consiste simplement en ceci : l’acte courageux d’inspirer la douleur du monde et d’expirer votre propre petite lumière. Elle vous demande de devenir un réceptacle courageux\, un pont momentané entre la tristesse et le réconfort.\nLorsque vous êtes assis\, debout ou que vous attendez dans la file d’attente interminable de la vie moderne\, remarquez l’atmosphère pesante de souffrance qui vous entoure : l’impatience aiguë du conducteur à côté de vous\, la solitude silencieuse dans les yeux d’un passant\, l’anxiété collective qui bourdonne sous nos écrans.\nLorsque vous inspirez\, ouvrez l’espace de votre cœur. Imaginez que vous inspirez doucement\, consciemment\, cette brume dense et grise de douleur\, de peur et de frustration. Ne détournez pas le regard. Laissez la fumée fraîche toucher le centre de votre être\, le transformant dans la fournaise de votre compassion. Vous permettez simplement à la douleur de circuler à travers vous\, le canal.\nEt lorsque vous expirez\, inversez le courant. Expirez tout ce qui est bon en vous : votre paix\, votre force\, vos moments de joie\, un souhait silencieux de sérénité. Imaginez cette lumière\, blanche comme le clair de lune\, atteindre ces âmes accablées\, un baume doux sur la rugosité de leur lutte.\nC’est un vœu silencieux\, une générosité d’esprit radicale. Vous ne diminuez pas la douleur\, vous ne la prenez pas non plus comme votre propre fardeau permanent. Vous ouvrez simplement une fenêtre pour l’âme\, transformant la chaleur étouffante du souci de soi en un ciel ouvert de gentillesse.\nDans ce rythme simple de donner et de recevoir\, le monde s’adoucit\, tout comme votre propre cœur. \nLors de cette retraite\, Lama Tsony nous introduit à la pratique de Tong-len afin qu’elle nous serve de rappel dans notre vie quotidienne. Dans ce stage alterneront enseignement et pratiques guidées. Elle convient aux débutants comme aux pratiquants avancés\, car donnant un aperçu de toute la voie que l’on peut parcourir en une vie. \n\n\n\n\n\n\n\n\n\n\n\n\n\n\n\n\n\n\nLama Tsony est né en 1959 en région parisienne. Il rencontre\, en juillet 1976\, Guendune Rinpoché auprès de qui il prend les vœux monastiques en 1978. Mars 1984\, après des mois de  travaux de construction\, voit le début de la première retraite traditionnelle de  trois ans à laquelle Lama Tsony participe\, immédiatement suivie de la deuxième en octobre 1987. Dès la fin de sa seconde retraite\, en février 1991\, il s’occupe de la gestion et du développement de Dhagpo Kagyu Ling sous la conduite de Jigmé Rinpoché et participe à la construction de l’ermitage monastique et du temple au Bost.  Il est également régulièrement l’interprète de Guendune Rinpoché lors d’enseignements publics. Il contribue à la fondation et à la reconnaissance par l’état français de la congrégation Karma Tharching Lhundrup qui fut accordée en 1992 et dont il devient le supérieur. Parallèlement\, il voyage régulièrement à travers l’Europe pour créer des ponts entre les différents groupes de la tradition Kagyupa. En 1994\, il est nommé\, par Guendune Rinpoché\, Peunpo (Responsable  de la communauté monastique de Kundreul Ling au Bost). Dès 1999 il commence à voyager aux Etats-Unis et à enseigner dans les centres Bodhipath sous la direction spirituelle de Kunzig Shamar Rinpoché. Devenu laïque en 2007\, il s’installera en 2009 avec sa femme au centre BodhiPath de Natural Bridge\, VA \, ce Bodhipath étant comme tous les autres placés sous la direction de Kunzig Shamar Rinpoché. Depuis\, il partage son temps entre enseignements et collaboration aux différents projets du Gyalwa Karmapa et de Kunzig Shamar Rinpoché. \n\n\n\n\n\n\n\n\n\n\n\n\n\n\n\n\n\nFrais de session : 20€ / jour\nRéservation\n\n 
URL:https://karma-euzer-ling.fr/events/une-voie-lama-tsony/
CATEGORIES:La pratique méditative,Les pratiques du Mahayana,Les stages et retraites
ATTACH;FMTTYPE=image/jpeg:https://karma-euzer-ling.fr/wp-content/uploads/2026/01/image-33.jpeg
END:VEVENT
END:VCALENDAR