BEGIN:VCALENDAR
VERSION:2.0
PRODID:-//Karma Euzer Ling - ECPv6.15.20//NONSGML v1.0//EN
CALSCALE:GREGORIAN
METHOD:PUBLISH
X-ORIGINAL-URL:https://karma-euzer-ling.fr
X-WR-CALDESC:Évènements pour Karma Euzer Ling
REFRESH-INTERVAL;VALUE=DURATION:PT1H
X-Robots-Tag:noindex
X-PUBLISHED-TTL:PT1H
BEGIN:VTIMEZONE
TZID:Europe/Paris
BEGIN:DAYLIGHT
TZOFFSETFROM:+0100
TZOFFSETTO:+0200
TZNAME:CEST
DTSTART:20250330T010000
END:DAYLIGHT
BEGIN:STANDARD
TZOFFSETFROM:+0200
TZOFFSETTO:+0100
TZNAME:CET
DTSTART:20251026T010000
END:STANDARD
BEGIN:DAYLIGHT
TZOFFSETFROM:+0100
TZOFFSETTO:+0200
TZNAME:CEST
DTSTART:20260329T010000
END:DAYLIGHT
BEGIN:STANDARD
TZOFFSETFROM:+0200
TZOFFSETTO:+0100
TZNAME:CET
DTSTART:20261025T010000
END:STANDARD
BEGIN:DAYLIGHT
TZOFFSETFROM:+0100
TZOFFSETTO:+0200
TZNAME:CEST
DTSTART:20270328T010000
END:DAYLIGHT
BEGIN:STANDARD
TZOFFSETFROM:+0200
TZOFFSETTO:+0100
TZNAME:CET
DTSTART:20271031T010000
END:STANDARD
END:VTIMEZONE
BEGIN:VEVENT
DTSTART;TZID=Europe/Paris:20260815T100000
DTEND;TZID=Europe/Paris:20260820T163000
DTSTAMP:20260420T222112
CREATED:20260330T153944Z
LAST-MODIFIED:20260330T161153Z
UID:16209-1786788000-1787243400@karma-euzer-ling.fr
SUMMARY:Retraite de méditation et d’enseignement sur le Mahamoudra - Khenpo Tchotchok
DESCRIPTION:Durant cette retraite\, le vénérable Khenpo Tchotchok nous guidera à travers des phases alternées d’enseignement et de méditation basées sur un texte fondamental de la lignée kagyu «  Le Rayon de lune du Mahamoudra » composé par Dhagpo Tashi Namgyal.\nÉtant donné que ce texte fondamental est long et considérant le temps qui nous sera donné\, Khenpo Tchotchok extraira pour nous les instructions essentielles de ce profond enseignement qui seront à chaque fois suivies d’un temps de pratique méditative sur celles-ci.\n\n\nPar rapport au texte lui-même\, destiné tant aux pratiquants du Mahamudra qu’à leur enseignant\, Dakpo Tashi Namgyal (1512-1587)\, brillant érudit et méditant accompli de la tradition Kagyu\, explique à la fois la technique et le fondement théorique de ce système qui ne se départit jamais de la vue de la vacuité. A partir des innombrables citations qui émaillent son texte\, ce maitre de méditation montre comment placer et maintenir l’esprit dans son état naturel. En guide spirituel bienveillant\, il corrige les vues et les méditations erronées des débutants et des disciples confirmés. La réalisation s’échelonne alors selon différents niveaux de pratique jusqu’à l’ultime bouddhéité. Prouvant que le Mahamudra n’est pas une « invention » de Gampopa (1079-1153)\, le père de l’école Kagyu\, mais qu’il se fonde pleinement sur la théorie et la pratique du Grand Véhicule\, Dakpo Tashi Namgyal puise à la source\, dans les sutras\, les tantras et les instructions orales des grands accomplis indiens et tibétains. Dans un style simple et direct\, il expose ainsi ce qui fait la pureté et l’efficacité de la méditation sur la nature de l’esprit.\n\n\n\n\n\n\n\n\n\n\n\n\n\n\n\n\n\n\n\n\nNé dans les années 60\, Khenpo Karma Tchotchok devint moine à l’âge de vingt ans. Il part étudier au Népal\, puis à l’Institut Nalanda de Rumtek au Sikkim en Inde\, où il obtint le titre de Khenpo (titre qui indique un haut niveau de connaissance). Il a enseigné la philosophie selon l’enseignement du Bouddha et la langue tibétaine au Karmapa International Buddhist Institute de New Delhi et dans plusieurs pays européens\, accomplissant par ailleurs de nombreuses retraites. Khenpo Tchotchok est reconnu pour son ouverture\, sa détente\, sa simplicité et l’importance qu’il attache au dialogue pour transmettre une compréhension juste et profonde de la Voie du Bouddha. Khenpo Tchotchok enseigne en anglais et est traduit en Français. \n\n\n\n\n\n\n\n\n\n\n\n\n\n\n\n\n\nFrais de session : 20€ / jour\nRéservation\n\n 
URL:https://karma-euzer-ling.fr/events/retraite-de-meditation-et-denseignement-sur-le-mahamoudra/
CATEGORIES:Évènements,La pratique méditative,Les stages et retraites
ATTACH;FMTTYPE=image/jpeg:https://karma-euzer-ling.fr/wp-content/uploads/2026/01/image-31.jpeg
END:VEVENT
END:VCALENDAR