BEGIN:VCALENDAR
VERSION:2.0
PRODID:-//Karma Euzer Ling - ECPv6.15.20//NONSGML v1.0//EN
CALSCALE:GREGORIAN
METHOD:PUBLISH
X-WR-CALNAME:Karma Euzer Ling
X-ORIGINAL-URL:https://karma-euzer-ling.fr
X-WR-CALDESC:Évènements pour Karma Euzer Ling
REFRESH-INTERVAL;VALUE=DURATION:PT1H
X-Robots-Tag:noindex
X-PUBLISHED-TTL:PT1H
BEGIN:VTIMEZONE
TZID:Europe/Paris
BEGIN:DAYLIGHT
TZOFFSETFROM:+0100
TZOFFSETTO:+0200
TZNAME:CEST
DTSTART:20250330T010000
END:DAYLIGHT
BEGIN:STANDARD
TZOFFSETFROM:+0200
TZOFFSETTO:+0100
TZNAME:CET
DTSTART:20251026T010000
END:STANDARD
BEGIN:DAYLIGHT
TZOFFSETFROM:+0100
TZOFFSETTO:+0200
TZNAME:CEST
DTSTART:20260329T010000
END:DAYLIGHT
BEGIN:STANDARD
TZOFFSETFROM:+0200
TZOFFSETTO:+0100
TZNAME:CET
DTSTART:20261025T010000
END:STANDARD
BEGIN:DAYLIGHT
TZOFFSETFROM:+0100
TZOFFSETTO:+0200
TZNAME:CEST
DTSTART:20270328T010000
END:DAYLIGHT
BEGIN:STANDARD
TZOFFSETFROM:+0200
TZOFFSETTO:+0100
TZNAME:CET
DTSTART:20271031T010000
END:STANDARD
END:VTIMEZONE
BEGIN:VEVENT
DTSTART;TZID=Europe/Paris:20260514T100000
DTEND;TZID=Europe/Paris:20260517T163000
DTSTAMP:20260420T184739
CREATED:20260329T113508Z
LAST-MODIFIED:20260330T094946Z
UID:16190-1778752800-1779035400@karma-euzer-ling.fr
SUMMARY:Le Soutra de la sagesse du moment de la mort - Le Daka Yéshé - Dongsung Shabdrung Rinpoché
DESCRIPTION:Le Soutra de la sagesse primordiale du moment de la mort ou Daka Yeshé que nous expliquera Rinpoché relate un dialogue entre le Bouddha et le bodhisattva-mahasattva Ākāśagarbha. À la question que ce bodhisattva se pose sur la manière de contempler l’esprit au moment de la mort\, le Bouddha répond en cinq points : « naturellement purs sont les dharmas : médite la pensée du sans substance ; parfaitement doués de bodhicitta : médite la pensée de grande compassion ; naturellement lumineux sont les dharmas : médite la pensée du sans référence ; impermanentes sont toutes choses : médite la pensée du sans attachement ; l’esprit est source de sagesse primordiale : ne cherche le bouddha nulle part ailleurs. » \nLe Bouddha Shakyamuni nous livre dans ce court soutra la quintessence de la totalité de son enseignement\, si vaste et si profond\, sous la forme de ces cinq maîtres-mots de la méditation\, cinq clés nécessaires et suffisantes pour comprendre l’Enseignement\, pour le mettre en pratique\, et pour en réaliser le fruit ultime. \n\n\n\n\n\n\n\n\n\n\n\n\n\n\n\n\n\n\nDongsung Shabdroung Rinpoché est un lama hautement réalisé de la lignée Sakyapa\, l’une des quatre lignées du bouddhisme tibétain. Il est érudit dans les traditions Sakya et Kagyu. Dans sa précédente incarnation\, il était le frère aîné du 16ème Karmapa et reste aujourd’hui proche du 17ème Karmapa Trinlay Thayé Dorjé. Il est considéré comme l’émanation de Sangyé Yéshé\, l’un des 25 disciples proches de Gourou Rinpoché. Il a achevé ses études de philosophie bouddhiste et enseigne aujourd’hui à la fois la philosophie et les tantras du vajrayana. Il est détenteur d’une lignée de pratique de Hevajra\, l’un des principaux yidams de ces tantras. Il fut reconnu à l’âge de 8 ans par Sakya Trizin\, le hiérarque de la lignée Sakya\, et par Shamar Rinpoché. \n\n\n\n\n\n\n\n\n\n\n\n\n\n\n\n\n\nFrais de session : 20€ / jour\nRéservation\n\n 
URL:https://karma-euzer-ling.fr/events/le-soutra-du-moment-de-la-mort-le-daka-yeshe-dongsung-shabdrung-rinpoche/
CATEGORIES:Évènements,Les enseignements sur la philosophie bouddhiste,Les stages et retraites
ATTACH;FMTTYPE=image/jpeg:https://karma-euzer-ling.fr/wp-content/uploads/2026/03/image.jpeg
END:VEVENT
END:VCALENDAR